BEGIN:VCALENDAR
VERSION:2.0
PRODID:-//ChamberMaster//Event Calendar 2.0//EN
METHOD:PUBLISH
X-PUBLISHED-TTL:P3D
REFRESH-INTERVAL:P3D
CALSCALE:GREGORIAN
BEGIN:VEVENT
DTSTART:20270714T190000Z
DTEND:20270714T200000Z
X-MICROSOFT-CDO-ALLDAYEVENT:FALSE
SUMMARY:Workforce\, Education\, Healthcare Committee Meeting - Virtual Only
DESCRIPTION:Purpose:\n\n\n\nA collaborative committee dedicated to improving the regional workforce pipeline\, with a strong emphasis on education and healthcare. Members exchange data and insights on healthcare and market conditions\, address relevant industry challenges\, and support programs that promote long-term workforce quality and healthy living initiatives.\n\n\n\nMeeting Schedule:\n\n\n\nThe South Texas Business Partnership offers this committee as a member benefit for our partners. The Workforce\, Education\, and Healthcare committee meetings every second Wednesday of the month from 2:00 - 3:00 PM via virtual meeting. Please register to attend this meeting and you will be added to the monthly recurring calendar invite.
X-ALT-DESC;FMTTYPE=text/html:<strong>Purpose:</strong><br />\n<br />\nA collaborative committee dedicated to improving the regional workforce pipeline\, with a strong emphasis on education and healthcare. Members exchange data and insights on healthcare and market conditions\, address relevant industry challenges\, and support programs that promote long-term workforce quality and healthy living initiatives.<br />\n<br />\n<strong>Meeting Schedule:</strong><br />\n<br />\nThe South Texas Business Partnership offers this committee as a member benefit for our partners. The Workforce\, Education\, and Healthcare committee meetings every second Wednesday of the month from 2:00 - 3:00 PM via virtual meeting. Please register to attend this meeting and you will be added to the monthly recurring calendar invite.
LOCATION:Virtual Only - Members must register via their Chamber Master member portal to be added to the recurring monthly calendar invite.
UID:e.700.6571
SEQUENCE:3
DTSTAMP:20260420T045712Z
URL:http://business.southtexaspartnership.org/events/details/workforce-education-healthcare-committee-07-14-2027-6571
END:VEVENT

END:VCALENDAR
