BEGIN:VCALENDAR
VERSION:2.0
PRODID:-//ChamberMaster//Event Calendar 2.0//EN
METHOD:PUBLISH
X-PUBLISHED-TTL:P3D
REFRESH-INTERVAL:P3D
CALSCALE:GREGORIAN
BEGIN:VEVENT
DTSTART:20230926T163000Z
DTEND:20230926T180000Z
X-MICROSOFT-CDO-ALLDAYEVENT:FALSE
SUMMARY:South Texas Growth Series Luncheon
DESCRIPTION:South Texas Business Partnership's (SoTX) larger strategic effort to position both South San Antonio and the South Texas region as a unified and strong destination for investment. The goals of SoTX is to ensure South Texas employers have access to a qualified workforce\, advocate for infrastructure investment that supports economic development in South Texas\, and support programs and policies that attract and retain residents and businesses across South San Antonio and South Texas. \n\n \nLast year\, SoTX launched the first South Texas Summit\, bringing together elected officials and Economic Development leaders from throughout South Texas to create space for discussion on sustained economic collaboration. This year\, we continue our work and discussion with the South Texas Growth Series a two-part luncheon series featuring panel discussions and updates on the progress in South Bexar County\, including exciting development happening just South of Loop 410.\n\n \n\nRegister today to join us on Tuesday\, September 26th\, at Texas A&M University-San Antonio to be part of the momentum and learn more about why All Roads Lead South.
X-ALT-DESC;FMTTYPE=text/html:<span style="font-size:14px\;"><span id="docs-internal-guid-94521e19-7fff-8d0a-e793-87536e886382"><span style="font-variant-numeric:normal\;font-variant-east-asian:normal\;font-variant-alternates:normal\;vertical-align:baseline\;white-space-collapse:preserve\;"><span style="background-color:transparent\;"><span style="font-family:roboto condensed\,sans-serif\;">South Texas Business Partnership&rsquo\;s (SoTX) larger strategic effort to position both South San Antonio and the South Texas region as a unified and strong destination for investment.&nbsp\;</span></span></span></span><span id="docs-internal-guid-2554c7ee-7fff-a115-3ac2-c67ee4cb7604"><span style="font-family: &quot\;Roboto Condensed&quot\;\, sans-serif\; color: rgb(0\, 0\, 0)\; background-color: transparent\; font-variant-numeric: normal\; font-variant-east-asian: normal\; font-variant-alternates: normal\; vertical-align: baseline\; white-space-collapse: preserve\;">The goals of SoTX is to</span></span><span style="font-variant-numeric:normal\;font-variant-east-asian:normal\;font-variant-alternates:normal\;vertical-align:baseline\;white-space-collapse:preserve\;"><span style="background-color:transparent\;"><span style="font-family:roboto condensed\,sans-serif\;"> ensure South Texas employers have access to a qualified workforce\, advocate for infrastructure investment that supports economic development in South Texas\, and support programs and policies that attract and retain residents and businesses across South San Antonio and South Texas.&nbsp\;</span></span></span></span><br />\n&nbsp\;\n<p style="margin: 0px\; padding: 0px\; color: rgb(62\, 62\, 62)\; font-family: Arial\, Verdana\, Helvetica\, sans-serif\; font-size: 14px\;"><span style="font-size:14px\;"><span style="color: rgb(0\, 0\, 0)\;">Last year\, SoTX launched the first South Texas Summit\, bringing together elected officials and Economic Development leaders from throughout South Texas to create space for discussion on sustained economic collaboration. This year\, we continue our work and discussion with the South Texas Growth Series&mdash\;a two-part luncheon series featuring panel discussions and updates on the progress in South Bexar County\, including exciting development happening just South of Loop 410.</span></span></p>\n\n<p style="margin: 0px\; padding: 0px\; color: rgb(62\, 62\, 62)\; font-family: Arial\, Verdana\, Helvetica\, sans-serif\; font-size: 14px\;">&nbsp\;</p>\n\n<p style="margin: 0px\; padding: 0px\; color: rgb(62\, 62\, 62)\; font-family: Arial\, Verdana\, Helvetica\, sans-serif\; font-size: 14px\;"><span style="font-size:14px\;"><span style="color: rgb(0\, 0\, 0)\;">Register today to join us on&nbsp\;</span><span style="color: rgb(0\, 0\, 0)\; font-weight: bold\;">Tuesday\, September 26th\, at Texas A&amp\;M University-San Antonio</span><span style="color: rgb(0\, 0\, 0)\;">&nbsp\;to be part of the momentum and learn more about why</span><span style="color: rgb(0\, 0\, 0)\; font-style: italic\; font-weight: bold\;">&nbsp\;All Roads Lead South</span><span style="color: rgb(0\, 0\, 0)\;">.</span></span></p>\n
LOCATION:Texas A&M University-San Antonio - Vista Room Fourth Floor One University Way San Antonio\, TX 78224
UID:e.700.5258
SEQUENCE:3
DTSTAMP:20260421T170210Z
URL:http://business.southtexaspartnership.org/events/details/south-texas-growth-series-luncheon-5258
END:VEVENT

END:VCALENDAR
