BEGIN:VCALENDAR
VERSION:2.0
PRODID:-//ChamberMaster//Event Calendar 2.0//EN
METHOD:PUBLISH
X-PUBLISHED-TTL:P3D
REFRESH-INTERVAL:P3D
CALSCALE:GREGORIAN
BEGIN:VEVENT
DTSTART:20290710T203000Z
DTEND:20290710T213000Z
X-MICROSOFT-CDO-ALLDAYEVENT:FALSE
SUMMARY:Partnership & Community Engagement
DESCRIPTION:Provides an opportunity for motivated\, enthusiastic\, and articulate businesspeople to represent SoTx at functions and events. Ambassadors are an exclusive group of volunteers who work for SoTX organization and member partners\, believe in the SoTX mission\, support their community and provide assistance for many of the SoTX activities and events. Identify new areas for tourism spots (SA\, Floresville\, Pleasanton)\, Building Relationships with local organizations and Increase Collaborations with other committees. This group meets on the second Tuesday of the month from 3:30-4:30 PM.
X-ALT-DESC;FMTTYPE=text/html:<span id="docs-internal-guid-7dee9c39-7fff-3fcc-4604-d42150477084"><span style="font-size: 11pt\; font-family: Calibri\, sans-serif\; font-variant-numeric: normal\; font-variant-east-asian: normal\; font-variant-alternates: normal\; font-variant-position: normal\; vertical-align: baseline\; white-space-collapse: preserve\;">Provides an opportunity for motivated\, enthusiastic\, and articulate businesspeople to represent SoTx at functions and events. Ambassadors are an exclusive group of volunteers who work for SoTX organization and member partners\, believe in the SoTX mission\, support their community and provide assistance for many of the SoTX activities and events. Identify new areas for tourism spots (SA\, Floresville\, Pleasanton)\, Building Relationships with local organizations and Increase Collaborations with other committees. This group meets on the second Tuesday of the month from 3:30-4:30 PM.</span></span>
LOCATION:Will change month to month
UID:e.700.6197
SEQUENCE:3
DTSTAMP:20260421T225708Z
URL:http://business.southtexaspartnership.org/events/details/partnership-community-engagement-07-10-2029-6197
END:VEVENT

END:VCALENDAR
