BEGIN:VCALENDAR
VERSION:2.0
PRODID:-//ChamberMaster//Event Calendar 2.0//EN
METHOD:PUBLISH
X-PUBLISHED-TTL:P3D
REFRESH-INTERVAL:P3D
CALSCALE:GREGORIAN
BEGIN:VEVENT
DTSTART:20250827T163000Z
DTEND:20250827T173000Z
X-MICROSOFT-CDO-ALLDAYEVENT:FALSE
SUMMARY:Lunch & Learn with SoTX - Sponsored by Lone Star National Bank
DESCRIPTION:You're invited to the upcoming SoTX Lunch & Learn\, presented by Lone Star National Bank.\n\nJoin us for an engaging session where you'll learn more about the South Texas Business Partnership and its mission to strengthen our regional economy. You'll also hear directly from our presenting sponsor\, Lone Star National Bank\, as they share expert insights on small business and commercial banking solutions tailored to support growth and success.\n\nLunch is provided. Space is limited reserve your seat today!
X-ALT-DESC;FMTTYPE=text/html:<p data-end="161" data-start="67"><strong data-end="159" data-start="67">You&#39\;re invited to the upcoming SoTX Lunch &amp\; Learn\, presented by Lone Star National Bank.</strong></p>\n\n<p data-end="518" data-start="163">Join us for an engaging session where you&#39\;ll learn more about the South Texas Business Partnership and its mission to strengthen our regional economy. You&rsquo\;ll also hear directly from our presenting sponsor\, <strong data-end="396" data-start="369">Lone Star National Bank</strong>\, as they share expert insights on small business and commercial banking solutions tailored to support growth and success.</p>\n\n<p data-end="584" data-is-last-node="" data-is-only-node="" data-start="520"><strong data-end="584" data-is-last-node="" data-start="520">Lunch is provided. Space is limited&mdash\;reserve your seat today!</strong></p>\n
LOCATION:3128 Sidney Brooks San Anotnio\, Texas 78235
UID:e.700.7259
SEQUENCE:3
DTSTAMP:20260420T021327Z
URL:http://business.southtexaspartnership.org/events/details/lunch-learn-with-sotx-sponsored-by-lone-star-national-bank-7259
END:VEVENT

END:VCALENDAR
