BEGIN:VCALENDAR
VERSION:2.0
PRODID:-//ChamberMaster//Event Calendar 2.0//EN
METHOD:PUBLISH
X-PUBLISHED-TTL:P3D
REFRESH-INTERVAL:P3D
CALSCALE:GREGORIAN
BEGIN:VEVENT
DTSTART:20270817T190000Z
DTEND:20270817T200000Z
X-MICROSOFT-CDO-ALLDAYEVENT:FALSE
SUMMARY:Lead South Committee
DESCRIPTION:The Leading South Committee is comprised of active members\, potential participants\, and alumni from Lead South. Their focus is on emphasizing Civic and Community Leadership while also overseeing the editing and management of Board of Directors applications. They actively engage with Lead South through nominations and play a pivotal role in planning and coordinating Lead South events\, including the retreat\, monthly sessions\, and graduation.
X-ALT-DESC;FMTTYPE=text/html:The Leading South Committee is comprised of active members\, potential participants\, and alumni from Lead South. Their focus is on emphasizing Civic and Community Leadership while also overseeing the editing and management of Board of Directors applications. They actively engage with Lead South through nominations and play a pivotal role in planning and coordinating Lead South events\, including the retreat\, monthly sessions\, and graduation.<br />\n&nbsp\;
LOCATION:3128 Sidney Brooks Dr.\, San Antonio\, TX\, 78235. 2:00 PM - 3:00 PM
UID:e.700.6439
SEQUENCE:3
DTSTAMP:20260420T063911Z
URL:http://business.southtexaspartnership.org/events/details/leading-south-08-17-2027-6439
END:VEVENT

END:VCALENDAR
