BEGIN:VCALENDAR
VERSION:2.0
PRODID:-//ChamberMaster//Event Calendar 2.0//EN
METHOD:PUBLISH
X-PUBLISHED-TTL:P3D
REFRESH-INTERVAL:P3D
CALSCALE:GREGORIAN
BEGIN:VEVENT
DTSTART:20241212T230000Z
DTEND:20241213T013000Z
X-MICROSOFT-CDO-ALLDAYEVENT:FALSE
SUMMARY:Holiday Mixer
DESCRIPTION:Come out to networking and enjoy some food and great company during this year's Holiday Mixer!
X-ALT-DESC;FMTTYPE=text/html:Come out to networking and enjoy some food and great company during this year&#39\;s Holiday Mixer!
LOCATION:Cuba 1918 2809 W. Southcross San Antonio\, Tx 78211
UID:e.700.6829
SEQUENCE:3
DTSTAMP:20260420T102459Z
URL:http://business.southtexaspartnership.org/events/details/holiday-mixer-6829
END:VEVENT

END:VCALENDAR
