BEGIN:VCALENDAR
VERSION:2.0
PRODID:-//ChamberMaster//Event Calendar 2.0//EN
METHOD:PUBLISH
X-PUBLISHED-TTL:P3D
REFRESH-INTERVAL:P3D
CALSCALE:GREGORIAN
BEGIN:VEVENT
DTSTART:20220601T133000Z
DTEND:20220602T023000Z
X-MICROSOFT-CDO-ALLDAYEVENT:FALSE
SUMMARY:Healthcare Committee
DESCRIPTION:Provides insight and data regarding healthcare conditions in the market and works to address pertinent issues affecting the healthcare community overall. Responsible for annual Feel Good Festival aimed at promoting healthy life style options and opportunities.\n\nChair: Rebecca Martinez\, Texas Vista Medical Center\n\nCo-Chair: Dr. David Jurenovich\, UIW Medical School\n\nSoTx Staff: Jessica Furdock
X-ALT-DESC;FMTTYPE=text/html:<p style="box-sizing: border-box\; overflow-wrap: break-word\; margin: 0px 0px 25px\; padding: 0px\; border: 0px\; color: rgb(0\, 57\, 111)\; font-family: Varela\, sans-serif\; font-size: 15px\; background-color: rgb(255\, 255\, 255)\;">Provides insight and data regarding healthcare conditions in the market and works to address pertinent issues affecting the healthcare community overall. Responsible for annual Feel Good Festival aimed at promoting healthy life style options and opportunities.</p>\n\n<p style="box-sizing: border-box\; overflow-wrap: break-word\; margin: 0px 0px 25px\; padding: 0px\; border: 0px\; color: rgb(0\, 57\, 111)\; font-family: Varela\, sans-serif\; font-size: 15px\; background-color: rgb(255\, 255\, 255)\;">Chair: Rebecca Martinez\, Texas Vista Medical Center<br style="box-sizing: border-box\;" />\nCo-Chair: Dr. David Jurenovich\, UIW Medical School<br style="box-sizing: border-box\;" />\nSoTx Staff: Jessica Furdock</p>\n
LOCATION:Currently Via Zoom or SoTx offices Topic: SoTx Healthcare Committee Time: Jun 1\, 2022 08:30 AM Central Time (US and Canada) Every month on the First Wed\, Join Zoom Meeting https://us02web.zoom.us/j/86394035672?pwd=MkRnWGNrNWxHR1U1d0MrY2V1bW42Zz09 Meeting ID: 863 9403 5672 Passcode: 668996 One tap mobile +13462487799\,\,86394035672#\,\,\,\,*668996# US (Houston) +12532158782\,\,86394035672#\,\,\,\,*668996# US (Tacoma) Dial by your location +1 346 248 7799 US (Houston) +1 253 215 8782 US (Tacoma) +1 669 900 9128 US (San Jose) +1 312 626 6799 US (Chicago) +1 646 558 8656 US (New York) +1 301 715 8592 US (Washington DC) Meeting ID: 863 9403 5672 Passcode: 668996 Find your local number: https://us02web.zoom.us/u/kcpHZ0ux0i
UID:e.700.4353
SEQUENCE:3
DTSTAMP:20260422T192555Z
URL:http://business.southtexaspartnership.org/events/details/healthcare-committee-mtg-06-01-2022-4353
END:VEVENT

END:VCALENDAR
