BEGIN:VCALENDAR
VERSION:2.0
PRODID:-//ChamberMaster//Event Calendar 2.0//EN
METHOD:PUBLISH
X-PUBLISHED-TTL:P3D
REFRESH-INTERVAL:P3D
CALSCALE:GREGORIAN
BEGIN:VEVENT
DTSTART:20321228T143000Z
DTEND:20321228T153000Z
X-MICROSOFT-CDO-ALLDAYEVENT:FALSE
SUMMARY:Coffee and Conchas
DESCRIPTION:Come enjoy some nice warm coffee and delicious pan de dulce and learn more about South Texas Business Partnership! Learn about membership and how to expand your business and how to get involve in your community.
X-ALT-DESC;FMTTYPE=text/html:Come enjoy some nice warm coffee and delicious pan de dulce and learn more about South Texas Business Partnership! Learn about membership and how to expand your business and how to get involve in your community.&nbsp\;
LOCATION:3128 Sidney Brooks San Antonio\, TX 78235 SoTX Conference Room
UID:e.700.7218
SEQUENCE:3
DTSTAMP:20260424T201349Z
URL:http://business.southtexaspartnership.org/events/details/coffee-and-conchas-12-28-2032-7218
END:VEVENT

END:VCALENDAR
