BEGIN:VCALENDAR
VERSION:2.0
PRODID:-//ChamberMaster//Event Calendar 2.0//EN
METHOD:PUBLISH
X-PUBLISHED-TTL:P3D
REFRESH-INTERVAL:P3D
CALSCALE:GREGORIAN
BEGIN:VEVENT
DTSTART:20290424T133000Z
DTEND:20290424T143000Z
X-MICROSOFT-CDO-ALLDAYEVENT:FALSE
SUMMARY:Coffee and Conchas
DESCRIPTION:Come enjoy some nice warm coffee and delicious pan de dulce and learn more about South Texas Business Partnership! Learn about membership and how to expand your business and how to get involve in your community.
X-ALT-DESC;FMTTYPE=text/html:Come enjoy some nice warm coffee and delicious pan de dulce and learn more about South Texas Business Partnership! Learn about membership and how to expand your business and how to get involve in your community.&nbsp\;
LOCATION:3128 Sidney Brooks San Antonio\, TX 78235 SoTX Conference Room
UID:e.700.7174
SEQUENCE:3
DTSTAMP:20260421T191506Z
URL:http://business.southtexaspartnership.org/events/details/coffee-and-conchas-04-24-2029-7174
END:VEVENT

END:VCALENDAR
