BEGIN:VCALENDAR
VERSION:2.0
PRODID:-//ChamberMaster//Event Calendar 2.0//EN
METHOD:PUBLISH
X-PUBLISHED-TTL:P3D
REFRESH-INTERVAL:P3D
CALSCALE:GREGORIAN
BEGIN:VEVENT
DTSTART:20240516T230000Z
DTEND:20240517T010000Z
X-MICROSOFT-CDO-ALLDAYEVENT:FALSE
SUMMARY:Builders & Real Estate Agents Mixer
DESCRIPTION:Enjoy networking\, refreshments\, appetizers\, and a chance to win great prizes.
X-ALT-DESC;FMTTYPE=text/html:Enjoy networking\, refreshments\, appetizers\, and a chance to win great prizes.
LOCATION:6986 S. Zarzamora\, San Antonio\, TX\, 78224
UID:e.700.6812
SEQUENCE:3
DTSTAMP:20260421T020308Z
URL:http://business.southtexaspartnership.org/events/details/builders-real-estate-agents-mixer-6812
END:VEVENT

END:VCALENDAR
