BEGIN:VCALENDAR
VERSION:2.0
PRODID:-//ChamberMaster//Event Calendar 2.0//EN
METHOD:PUBLISH
X-PUBLISHED-TTL:P3D
REFRESH-INTERVAL:P3D
CALSCALE:GREGORIAN
BEGIN:VEVENT
DTSTART:20221018T160000Z
DTEND:20221018T170000Z
X-MICROSOFT-CDO-ALLDAYEVENT:FALSE
SUMMARY:Ancira South Park Nissan Ribbon Cutting & Grand Opening
DESCRIPTION:Join the South Texas Business Partnership for a Ribbon Cutting & Grand Opening on Tuesday\, October 18th @ 11:00 am for the new Ancira South Park Nissan.
X-ALT-DESC;FMTTYPE=text/html:<span style="color: rgb(34\, 34\, 34)\; font-family: Georgia\, serif\; font-size: 16px\; background-color: rgb(255\, 255\, 255)\;">Join the South Texas Business Partnership for a Ribbon Cutting &amp\; Grand Opening on Tuesday\, October 18</span><sup style="color: rgb(34\, 34\, 34)\; font-family: Georgia\, serif\; background-color: rgb(255\, 255\, 255)\;">th</sup><span style="color: rgb(34\, 34\, 34)\; font-family: Georgia\, serif\; font-size: 16px\; background-color: rgb(255\, 255\, 255)\;">&nbsp\;@ 11:00 am for the new&nbsp\;Ancira South Park Nissan.</span>
LOCATION:8606 I-35 South Frontage\, San Antonio\, TX 78211 (@ Palo Alto Rd.)
UID:e.700.5040
SEQUENCE:3
DTSTAMP:20260422T125650Z
URL:http://business.southtexaspartnership.org/events/details/ancira-south-park-nissan-ribbon-cutting-grand-opening-5040
END:VEVENT

END:VCALENDAR
